BEGIN:VCALENDAR
VERSION:2.0
PRODID:-//Plone.org//NONSGML plone.app.event//EN
X-WR-TIMEZONE:Europe/Rome
BEGIN:VEVENT
SUMMARY:Statistica applicata ai quesiti clinici
DTSTART;VALUE=DATE-TIME:20150118T230000Z
DTEND;VALUE=DATE-TIME:20150118T230000Z
DTSTAMP;VALUE=DATE-TIME:20260421T151335Z
UID:6ce050e747c26e4b1ca47f97942cebf7@127.0.0.1:8095
CATEGORIES:Corso di perfezionamento
CONTACT:059 4223481\, sara.balduzzi@unimore.it
CREATED;VALUE=DATE-TIME:20150116T112821Z
DESCRIPTION:Corso di perfezionamento - VII edizione. \n
LAST-MODIFIED;VALUE=DATE-TIME:20160215T083553Z
LOCATION:Dipartimento di Medicina Diagnostica\, Clinica e di Sanità Pubbl
 ica - Università degli Studi di Modena e Reggio Emilia
URL:https://www.ausl.bologna.it/eventi/archivio/auslevent.2015-01-16.08604
 51490
END:VEVENT
END:VCALENDAR
