BEGIN:VCALENDAR
VERSION:2.0
PRODID:-//Plone.org//NONSGML plone.app.event//EN
X-WR-TIMEZONE:Europe/Rome
BEGIN:VEVENT
SUMMARY:La Rete regionale. Traumi gravi e i sistemi di monitoraggio
DTSTART;VALUE=DATE-TIME:20150116T080000Z
DTEND;VALUE=DATE-TIME:20150116T123000Z
DTSTAMP;VALUE=DATE-TIME:20260421T151528Z
UID:18b604a1aa0c104ebca7a95e1ef05f20@127.0.0.1:8095
ATTENDEE;CN="La partecipazione è gratuita, previa iscrizione online";ROLE
 =REQ-PARTICIPANT:La partecipazione è gratuita, previa iscrizione online
CREATED;VALUE=DATE-TIME:20150112T160637Z
DESCRIPTION:Workshop 
LAST-MODIFIED;VALUE=DATE-TIME:20160215T083551Z
LOCATION: Bologna\, viale Aldo Moro 21 - Aula 417c
URL:https://www.ausl.bologna.it/eventi/archivio/auslevent.2015-01-12.98937
 46511
END:VEVENT
END:VCALENDAR
