BEGIN:VCALENDAR
VERSION:2.0
PRODID:-//Plone.org//NONSGML plone.app.event//EN
X-WR-TIMEZONE:Europe/Rome
BEGIN:VEVENT
SUMMARY:Sindromi acroasfittiche e sclerosi sistemica progressiva: dai crit
 eri classificativi ai sub-set clinici
DTSTART;VALUE=DATE-TIME:20150131T083000Z
DTEND;VALUE=DATE-TIME:20150131T120000Z
DTSTAMP;VALUE=DATE-TIME:20260421T151527Z
UID:a45fc6df6ca76737f49c80b413d11388@127.0.0.1:8095
ATTENDEE;CN="Iscrizione online entro il 24 gennaio - Ingresso libero - Inc
 ontro ECM per tutte le figure sanitarie";ROLE=REQ-PARTICIPANT:Iscrizione o
 nline entro il 24 gennaio - Ingresso libero - Incontro ECM per tutte le fi
 gure sanitarie
CATEGORIES:Convegno
CREATED;VALUE=DATE-TIME:20150112T163213Z
DESCRIPTION:Seminari reumatologi in area metropolitana bolognese 
LAST-MODIFIED;VALUE=DATE-TIME:20160215T083552Z
LOCATION:Aula Magna Ospedale Maggiore - Largo Bartolo Nigrisoli\, 2 - Bolo
 gna
URL:https://www.ausl.bologna.it/eventi/archivio/auslevent.2015-01-12.10156
 00713
END:VEVENT
END:VCALENDAR
