BEGIN:VCALENDAR
VERSION:2.0
PRODID:-//Plone.org//NONSGML plone.app.event//EN
X-WR-TIMEZONE:Europe/Rome
BEGIN:VEVENT
SUMMARY:Droghe e Comunicazione - LOCAL PASS
DTSTART;VALUE=DATE-TIME:20150119T080000Z
DTEND;VALUE=DATE-TIME:20150120T170000Z
DTSTAMP;VALUE=DATE-TIME:20260421T151335Z
UID:27940f05a82d8c2b3059ed88d7a48dbb@127.0.0.1:8095
CATEGORIES:seminario
CREATED;VALUE=DATE-TIME:20150105T155008Z
DESCRIPTION:Seminario internazionale sul tema della prevenzione e informaz
 ione contro l'abuso delle nuove droghe 
LAST-MODIFIED;VALUE=DATE-TIME:20160215T083549Z
URL:https://www.ausl.bologna.it/eventi/archivio/auslevent.2015-01-05.55762
 41424
END:VEVENT
END:VCALENDAR
