BEGIN:VCALENDAR
VERSION:2.0
PRODID:-//Plone.org//NONSGML plone.app.event//EN
X-WR-TIMEZONE:Europe/Rome
BEGIN:VEVENT
SUMMARY:Musica per la salute 
DTSTART;VALUE=DATE-TIME:20141217T153000Z
DTEND;VALUE=DATE-TIME:20141217T173000Z
DTSTAMP;VALUE=DATE-TIME:20260421T151433Z
UID:beccbf843b9e01c06aaae0e5f5a58668@127.0.0.1:8095
CATEGORIES:Convegno
CREATED;VALUE=DATE-TIME:20141217T135213Z
DESCRIPTION:Un convegno e un concerto 
LAST-MODIFIED;VALUE=DATE-TIME:20160215T083546Z
LOCATION:Oratorio di Santa Maria della Vita - Via Clavature\, 8-10 - Bolog
 na 
URL:https://www.ausl.bologna.it/eventi/archivio/auslevent.2014-12-17.96673
 38574
END:VEVENT
END:VCALENDAR
