BEGIN:VCALENDAR
VERSION:2.0
PRODID:-//Plone.org//NONSGML plone.app.event//EN
X-WR-TIMEZONE:Europe/Rome
BEGIN:VEVENT
SUMMARY:Reach e CLP: le nuove scadenze su classificazione delle miscele e 
 autorizzazione delle sostanze
DTSTART;VALUE=DATE-TIME:20141212T083000Z
DTEND;VALUE=DATE-TIME:20141212T123000Z
DTSTAMP;VALUE=DATE-TIME:20260421T151432Z
UID:7624d99c654d4495d6767f998f8e009f@127.0.0.1:8095
CONTACT:Anita Zambonelli\, Fax: 051-6224338\, reach@ausl.bologna.it
CREATED;VALUE=DATE-TIME:20141205T151908Z
LAST-MODIFIED;VALUE=DATE-TIME:20160215T083543Z
LOCATION:Sede Polifunzionale Via Cimarosa\, 5/2 CASALECCHIO DI RENO (BO)
URL:https://www.ausl.bologna.it/eventi/archivio/auslevent.2014-12-05.55406
 26616
END:VEVENT
END:VCALENDAR
