BEGIN:VCALENDAR
VERSION:2.0
PRODID:-//Plone.org//NONSGML plone.app.event//EN
X-WR-TIMEZONE:Europe/Rome
BEGIN:VEVENT
SUMMARY:Corso di Medicina Legale
DTSTART;VALUE=DATE-TIME:20141215T073000Z
DTEND;VALUE=DATE-TIME:20141215T130000Z
DTSTAMP;VALUE=DATE-TIME:20260421T151444Z
UID:dc8ce534657798cf53d8634877a1f594@127.0.0.1:8095
CATEGORIES:Convegno
CONTACT:Venturi Elena\, fax 051-596977
CREATED;VALUE=DATE-TIME:20141203T154314Z
DESCRIPTION:Convegno 
LAST-MODIFIED;VALUE=DATE-TIME:20160215T083447Z
LOCATION:Casalecchio di Reno - Aula A\, via Cimarosa 5/2
URL:https://www.ausl.bologna.it/eventi/archivio/auslevent.2014-12-03.97369
 17480
END:VEVENT
END:VCALENDAR
