BEGIN:VCALENDAR
VERSION:2.0
PRODID:-//Plone.org//NONSGML plone.app.event//EN
X-WR-TIMEZONE:Europe/Rome
BEGIN:VEVENT
SUMMARY:Il controllo delle malattie parassitarie trasmesse per via aliment
 are: nuove sfide per la cooperazione veterinaria internazionale
DTSTART;VALUE=DATE-TIME:20141218T133000Z
DTEND;VALUE=DATE-TIME:20141218T180000Z
DTSTAMP;VALUE=DATE-TIME:20260421T151335Z
UID:4901ca21cb3a7cab83a2587220f71041@127.0.0.1:8095
CATEGORIES:Workshop
CREATED;VALUE=DATE-TIME:20141202T141736Z
DESCRIPTION:Evento finale del Master in “Cooperazione Veterinaria Intern
 azionale”
LAST-MODIFIED;VALUE=DATE-TIME:20160215T083349Z
LOCATION:Aula Magna\, complesso ‘Pentagono’ Agripolis\, Legnaro (PD)
URL:https://www.ausl.bologna.it/eventi/archivio/auslevent.2014-12-02.58683
 70595
END:VEVENT
END:VCALENDAR
