BEGIN:VCALENDAR
VERSION:2.0
PRODID:-//Plone.org//NONSGML plone.app.event//EN
X-WR-TIMEZONE:Europe/Rome
BEGIN:VEVENT
SUMMARY:Promuoviamo la Ricerca - 29 novembre - Giornata Nazionale Parkinso
 n 
DTSTART;VALUE=DATE-TIME:20141129T080000Z
DTEND;VALUE=DATE-TIME:20141129T113000Z
DTSTAMP;VALUE=DATE-TIME:20260421T151529Z
UID:9d564c22e8fa974eb9e64bbc7e50f70a@127.0.0.1:8095
CATEGORIES:Giornata nazionale
CREATED;VALUE=DATE-TIME:20141127T150306Z
DESCRIPTION:Bisogni non soddisfatti del paziente con la Malattia di Parkin
 son 
LAST-MODIFIED;VALUE=DATE-TIME:20160215T083346Z
LOCATION:Aula Magna - Clinica Neurologica\, Università di Bologna - Via U
 go Foscolo\, 7 - Bologna 
URL:https://www.ausl.bologna.it/eventi/archivio/auslevent.2014-11-27.38146
 15017
END:VEVENT
END:VCALENDAR
