BEGIN:VCALENDAR
VERSION:2.0
PRODID:-//Plone.org//NONSGML plone.app.event//EN
X-WR-TIMEZONE:Europe/Rome
BEGIN:VEVENT
SUMMARY:Aiuta anche tu la Ricerca e vieni...
DTSTART;VALUE=DATE-TIME:20141127T200000Z
DTEND;VALUE=DATE-TIME:20141127T220000Z
DTSTAMP;VALUE=DATE-TIME:20260420T183543Z
UID:681cef82c98d3817859f212bd83d0dc7@127.0.0.1:8095
CATEGORIES:Spettacolo musicale
CREATED;VALUE=DATE-TIME:20141127T151433Z
DESCRIPTION:Veronica e Malandrino presentano lo Spettacolo cabaret a favor
 e della Giornata Parkinson 
LAST-MODIFIED;VALUE=DATE-TIME:20160215T083347Z
LOCATION:Cinema Teatro Tivoli - Via Massarenti\, 418 - Bologna 
URL:https://www.ausl.bologna.it/eventi/archivio/auslevent.2014-11-27.01930
 26079
END:VEVENT
END:VCALENDAR
