BEGIN:VCALENDAR
VERSION:2.0
PRODID:-//Plone.org//NONSGML plone.app.event//EN
X-WR-TIMEZONE:Europe/Rome
BEGIN:VEVENT
SUMMARY:Giornata della Trasparenza. Riflessioni sui temi dell'Etica e dell
 a Trasparenza  
DTSTART;VALUE=DATE-TIME:20141205T080000Z
DTEND;VALUE=DATE-TIME:20141205T120000Z
DTSTAMP;VALUE=DATE-TIME:20260421T151528Z
UID:d27536288e7b3642fb870a7ed25b7102@127.0.0.1:8095
CATEGORIES:Giornata di studio
CREATED;VALUE=DATE-TIME:20141126T141523Z
DESCRIPTION:La sanità bolognese si confronta con cittadini dipendenti vol
 ontari \n\n
LAST-MODIFIED;VALUE=DATE-TIME:20160215T083342Z
LOCATION:Sala A Conferenze - Terza Torre - Via della Fiera\, 8 - Bologna
URL:https://www.ausl.bologna.it/eventi/archivio/auslevent.2014-11-26.76426
 12518
END:VEVENT
END:VCALENDAR
