BEGIN:VCALENDAR
VERSION:2.0
PRODID:-//Plone.org//NONSGML plone.app.event//EN
X-WR-TIMEZONE:Europe/Rome
BEGIN:VEVENT
SUMMARY:“Per stare bene\, impariamo a mangiar bene”
DTSTART;VALUE=DATE-TIME:20141204T143000Z
DTEND;VALUE=DATE-TIME:20141204T170000Z
DTSTAMP;VALUE=DATE-TIME:20260421T151246Z
UID:bcbe8b3ef03119b05e1690cc35281595@127.0.0.1:8095
CATEGORIES:Laboratorio di cucina
CONTACT:051/6584903
CREATED;VALUE=DATE-TIME:20141126T143541Z
DESCRIPTION:Continuano i laboratori di cucina salutare nelle Case della Sa
 lute\n\n \n\n
LAST-MODIFIED;VALUE=DATE-TIME:20160215T083343Z
LOCATION:Casa della Salute di Loiano\, via Roma 8 - Loiano (BO)
URL:https://www.ausl.bologna.it/eventi/archivio/auslevent.2014-11-26.32021
 32018
END:VEVENT
END:VCALENDAR
