BEGIN:VCALENDAR
VERSION:2.0
PRODID:-//Plone.org//NONSGML plone.app.event//EN
X-WR-TIMEZONE:Europe/Rome
BEGIN:VEVENT
SUMMARY:Rapido\, anonimo e sicuro 
DTSTART;VALUE=DATE-TIME:20141129T230000Z
DTEND;VALUE=DATE-TIME:20141130T230000Z
DTSTAMP;VALUE=DATE-TIME:20260420T080217Z
UID:591f64e37db9252f074d5340211263b3@127.0.0.1:8095
CATEGORIES:Giornata mondiale
CREATED;VALUE=DATE-TIME:20141126T150728Z
DESCRIPTION:Se hai avuto rapporti sessuali non protetti\, fai gratuitament
 e il test per l’HIV.\nIn pochi minuti farai molto per la tua salute
LAST-MODIFIED;VALUE=DATE-TIME:20160215T083344Z
LOCATION:Piazza Maggiore - Bologna 
URL:https://www.ausl.bologna.it/eventi/archivio/auslevent.2014-11-26.14850
 07177
END:VEVENT
END:VCALENDAR
