BEGIN:VCALENDAR
VERSION:2.0
PRODID:-//Plone.org//NONSGML plone.app.event//EN
X-WR-TIMEZONE:Europe/Rome
BEGIN:VEVENT
SUMMARY:Malattia di Alzheimer: tra conoscenze consolidate e nuove evidenze
DTSTART;VALUE=DATE-TIME:20141121T073000Z
DTEND;VALUE=DATE-TIME:20141121T153000Z
DTSTAMP;VALUE=DATE-TIME:20260421T151556Z
UID:6b5caacdd64dce1ba1278f4ebd0058ce@127.0.0.1:8095
CATEGORIES:Convegno
CREATED;VALUE=DATE-TIME:20141120T141613Z
DESCRIPTION:II CONVEGNO REGIONALE EMILIA-ROMAGNA della SinDem
LAST-MODIFIED;VALUE=DATE-TIME:20160215T083338Z
LOCATION:Padiglione Tinozzi - Ospedale Bellaria di Bologna
URL:https://www.ausl.bologna.it/eventi/archivio/auslevent.2014-11-20.70454
 86153
END:VEVENT
END:VCALENDAR
