BEGIN:VCALENDAR
VERSION:2.0
PRODID:-//Plone.org//NONSGML plone.app.event//EN
X-WR-TIMEZONE:Europe/Rome
BEGIN:VEVENT
SUMMARY:Guida al patrimonio dei beni culturali delle Aziende Sanitarie Reg
 ione Emilia-Romagna
DTSTART;VALUE=DATE-TIME:20141122T140000Z
DTEND;VALUE=DATE-TIME:20141122T200000Z
DTSTAMP;VALUE=DATE-TIME:20260420T080151Z
UID:ce6e7eea853e0e5240738b91045248df@127.0.0.1:8095
CATEGORIES:Presentazione
CREATED;VALUE=DATE-TIME:20141120T140845Z
DESCRIPTION:Presentazione
LAST-MODIFIED;VALUE=DATE-TIME:20160215T083336Z
LOCATION:Longiano (FC) Sala dell’Arengo\, Castello Malatestiano 
URL:https://www.ausl.bologna.it/eventi/archivio/auslevent.2014-11-20.03850
 73241
END:VEVENT
END:VCALENDAR
