BEGIN:VCALENDAR
VERSION:2.0
PRODID:-//Plone.org//NONSGML plone.app.event//EN
X-WR-TIMEZONE:Europe/Rome
BEGIN:VEVENT
SUMMARY:Il nuovo orario di lavoro della dirigenza del Servizio Sanitario N
 azionale 
DTSTART;VALUE=DATE-TIME:20141205T130000Z
DTEND;VALUE=DATE-TIME:20141205T173000Z
DTSTAMP;VALUE=DATE-TIME:20260421T151441Z
UID:4192ac54579a3f2f54b4502d151216de@127.0.0.1:8095
ATTENDEE;CN="La partecipazione è gratuita";ROLE=REQ-PARTICIPANT:La partec
 ipazione è gratuita
CATEGORIES:Convegno
CONTACT:051 585792
CREATED;VALUE=DATE-TIME:20141119T145621Z
DESCRIPTION:Convegno Cisl Medici Emilia-Romagna 
LAST-MODIFIED;VALUE=DATE-TIME:20160215T082931Z
LOCATION:Bologna - Aula Magna ospedale Maggiore 
URL:https://www.ausl.bologna.it/eventi/archivio/auslevent.2014-11-19.64477
 26679
END:VEVENT
END:VCALENDAR
