BEGIN:VCALENDAR
VERSION:2.0
PRODID:-//Plone.org//NONSGML plone.app.event//EN
X-WR-TIMEZONE:Europe/Rome
BEGIN:VEVENT
SUMMARY:Rapido\, Anonimo e Sicuro
DTSTART;VALUE=DATE-TIME:20141119T151500Z
DTEND;VALUE=DATE-TIME:20141119T151500Z
DTSTAMP;VALUE=DATE-TIME:20260420T093429Z
UID:32718c735c95ed454fe04183534f5d89@127.0.0.1:8095
CATEGORIES:Campagna
CREATED;VALUE=DATE-TIME:20141119T151528Z
DESCRIPTION:Fai il test per l'HIV
LAST-MODIFIED;VALUE=DATE-TIME:20160215T082931Z
LOCATION:Bologna\, Piazza Maggiore
URL:https://www.ausl.bologna.it/eventi/archivio/auslevent.2014-11-19.07023
 87156
END:VEVENT
END:VCALENDAR
