BEGIN:VCALENDAR
VERSION:2.0
PRODID:-//Plone.org//NONSGML plone.app.event//EN
X-WR-TIMEZONE:Europe/Rome
BEGIN:VEVENT
SUMMARY:Esperienze di successo di antimicrobial stewardship
DTSTART;VALUE=DATE-TIME:20141118T080000Z
DTEND;VALUE=DATE-TIME:20141118T160000Z
DTSTAMP;VALUE=DATE-TIME:20260421T151557Z
UID:3b9dab2a5319e5e95a7e74040744967e@127.0.0.1:8095
CATEGORIES:seminario
CREATED;VALUE=DATE-TIME:20141118T093409Z
DESCRIPTION:Seminario curato dall’Agenzia sanitaria e sociale regionale
LAST-MODIFIED;VALUE=DATE-TIME:20160215T082930Z
LOCATION:terza Torre\, Sala A\, viale della Fiera 8
URL:https://www.ausl.bologna.it/eventi/archivio/auslevent.2014-11-18.06062
 21189
END:VEVENT
END:VCALENDAR
