BEGIN:VCALENDAR
VERSION:2.0
PRODID:-//Plone.org//NONSGML plone.app.event//EN
X-WR-TIMEZONE:Europe/Rome
BEGIN:VEVENT
SUMMARY:Eroina. La malattia da oppioidi nell'era digitale 
DTSTART;VALUE=DATE-TIME:20141129T160000Z
DTEND;VALUE=DATE-TIME:20141129T180000Z
DTSTAMP;VALUE=DATE-TIME:20260421T063309Z
UID:d1e97d7c1102db1367f35b04fcdd67b7@127.0.0.1:8095
CATEGORIES:Presentazione libro
CREATED;VALUE=DATE-TIME:20141117T134142Z
DESCRIPTION:Presentazione del libro di Salvatore Giancane 
LAST-MODIFIED;VALUE=DATE-TIME:20160215T082929Z
LOCATION:Sala Marco Biagi - Baraccano - Via S. Stefano\, 119 Bologna 
URL:https://www.ausl.bologna.it/eventi/archivio/auslevent.2014-11-17.96128
 58037
END:VEVENT
END:VCALENDAR
