BEGIN:VCALENDAR
VERSION:2.0
PRODID:-//Plone.org//NONSGML plone.app.event//EN
X-WR-TIMEZONE:Europe/Rome
BEGIN:VEVENT
SUMMARY:Orchestra del Teatro Comunale di Bologna 
DTSTART;VALUE=DATE-TIME:20141118T193000Z
DTEND;VALUE=DATE-TIME:20141118T213000Z
DTSTAMP;VALUE=DATE-TIME:20260421T151442Z
UID:57a826ce93e9c57dee0c1854d13284c2@127.0.0.1:8095
ATTENDEE;CN="Ingresso libero";ROLE=REQ-PARTICIPANT:Ingresso libero
CATEGORIES:Concerto
CREATED;VALUE=DATE-TIME:20141117T145822Z
DESCRIPTION:Concerto\, ad ingresso libero\, promosso dall'Orchestra del Te
 atro Comunale di Bologna e dal Quartiere Navile
LAST-MODIFIED;VALUE=DATE-TIME:20160215T082930Z
LOCATION:Sala Centofiori - Via Gorki\, 16 - Quartiere Navile\, Bologna 
URL:https://www.ausl.bologna.it/eventi/archivio/auslevent.2014-11-17.88727
 76601
END:VEVENT
END:VCALENDAR
