BEGIN:VCALENDAR
VERSION:2.0
PRODID:-//Plone.org//NONSGML plone.app.event//EN
X-WR-TIMEZONE:Europe/Rome
BEGIN:VEVENT
SUMMARY:Promuovere la salute nei luoghi di lavoro
DTSTART;VALUE=DATE-TIME:20141205T080000Z
DTEND;VALUE=DATE-TIME:20141205T170000Z
DTSTAMP;VALUE=DATE-TIME:20260421T151130Z
UID:5a213fd72c3c3a61c2bcd1a09a50ca9e@127.0.0.1:8095
ATTENDEE;CN="Iscrizione gratuita fino ad esaurimento posti";ROLE=REQ-PARTI
 CIPANT:Iscrizione gratuita fino ad esaurimento posti
CATEGORIES:Convegno
CONTACT:051 6813377 \, daniela.guidetti@ausl.bologna.it
CREATED;VALUE=DATE-TIME:20141117T131349Z
DESCRIPTION:Alleanze intersettoriali per la costruzione sociale della salu
 te\n\n\n
LAST-MODIFIED;VALUE=DATE-TIME:20160215T082928Z
LOCATION:Auditorium Enzo Biagi Piazza Nettuno\, 3 ‐ Bologna
URL:https://www.ausl.bologna.it/eventi/archivio/auslevent.2014-11-17.77201
 61107
END:VEVENT
END:VCALENDAR
