BEGIN:VCALENDAR
VERSION:2.0
PRODID:-//Plone.org//NONSGML plone.app.event//EN
X-WR-TIMEZONE:Europe/Rome
BEGIN:VEVENT
SUMMARY:Donne\, libertà e cambiamento 
DTSTART;VALUE=DATE-TIME:20141128T080000Z
DTEND;VALUE=DATE-TIME:20141128T130000Z
DTSTAMP;VALUE=DATE-TIME:20260421T151442Z
UID:c72309c0eb8e51273d593a0bc8ac9b13@127.0.0.1:8095
CATEGORIES:Convegno
CREATED;VALUE=DATE-TIME:20141114T152108Z
DESCRIPTION:Riconoscere e valorizzare le competenze delle donne nella soci
 età contemporanea
LAST-MODIFIED;VALUE=DATE-TIME:20160215T082927Z
LOCATION:Aula Avis "Cesari" Casa dei Donatori di Sangue - Via dell'Ospedal
 e\, 20 Bologna 
URL:https://www.ausl.bologna.it/eventi/archivio/auslevent.2014-11-14.98005
 90950
END:VEVENT
END:VCALENDAR
