BEGIN:VCALENDAR
VERSION:2.0
PRODID:-//Plone.org//NONSGML plone.app.event//EN
X-WR-TIMEZONE:Europe/Rome
BEGIN:VEVENT
SUMMARY:Condimenti Off - Festival di Cibo e Letteratura 
DTSTART;VALUE=DATE-TIME:20141117T180000Z
DTEND;VALUE=DATE-TIME:20141117T210000Z
DTSTAMP;VALUE=DATE-TIME:20260421T151556Z
UID:ad72934695a661e0a6aedfd28a4f93c3@127.0.0.1:8095
CATEGORIES:Invito
CONTACT:331.10.81.173\, cultura@renogalliera.it
CREATED;VALUE=DATE-TIME:20141113T154239Z
DESCRIPTION:Presentazione del libro di Gabriele Cremonini “L’enigma Pi
 zzardi” 
LAST-MODIFIED;VALUE=DATE-TIME:20160215T082927Z
LOCATION:Castello di Bentivoglio - Bentivoglio (BO)
URL:https://www.ausl.bologna.it/eventi/archivio/auslevent.2014-11-13.64870
 91873
END:VEVENT
END:VCALENDAR
