BEGIN:VCALENDAR
VERSION:2.0
PRODID:-//Plone.org//NONSGML plone.app.event//EN
X-WR-TIMEZONE:Europe/Rome
BEGIN:VEVENT
SUMMARY:H-Open Day della Maternità dell'Ospedale Maggiore
DTSTART;VALUE=DATE-TIME:20141117T130000Z
DTEND;VALUE=DATE-TIME:20141117T150000Z
DTSTAMP;VALUE=DATE-TIME:20260421T151334Z
UID:72eb3f372d39f2a0653c96ce520d651f@127.0.0.1:8095
CATEGORIES:H-Open Day
CREATED;VALUE=DATE-TIME:20141112T104611Z
DESCRIPTION:Nell'ambito della Giornata mondiale della prematurità\, un in
 contro di informazione e sensibilizzazione sulle strategie di contenimento
  dei rischi correlati alla nascita pretermine e delle conseguenti complica
 nze. 
LAST-MODIFIED;VALUE=DATE-TIME:20160215T082926Z
LOCATION:Ospedale Maggiore\, Reparto Maternità
URL:https://www.ausl.bologna.it/eventi/archivio/auslevent.2014-11-12.70548
 26587
END:VEVENT
END:VCALENDAR
