BEGIN:VCALENDAR
VERSION:2.0
PRODID:-//Plone.org//NONSGML plone.app.event//EN
X-WR-TIMEZONE:Europe/Rome
BEGIN:VEVENT
SUMMARY:La violenza contro le donne 
DTSTART;VALUE=DATE-TIME:20141114T083000Z
DTEND;VALUE=DATE-TIME:20141114T153000Z
DTSTAMP;VALUE=DATE-TIME:20260421T151431Z
UID:f010753194a4d42a1904fb21ddd150c2@127.0.0.1:8095
CATEGORIES:Convegno
CREATED;VALUE=DATE-TIME:20141106T174612Z
DESCRIPTION:Un problema di salute pubblica da affrontare insieme 
LAST-MODIFIED;VALUE=DATE-TIME:20160215T082924Z
LOCATION:Bologna - Casa del Donatore Via dell'Ospedale\, 20
URL:https://www.ausl.bologna.it/eventi/archivio/auslevent.2014-11-06.75386
 45211
END:VEVENT
END:VCALENDAR
