BEGIN:VCALENDAR
VERSION:2.0
PRODID:-//Plone.org//NONSGML plone.app.event//EN
X-WR-TIMEZONE:Europe/Rome
BEGIN:VEVENT
SUMMARY:La Genomica in Sanità Pubblica: quali ricadute per la neurologia
DTSTART;VALUE=DATE-TIME:20141211T080000Z
DTEND;VALUE=DATE-TIME:20141211T160000Z
DTSTAMP;VALUE=DATE-TIME:20260421T151336Z
UID:d8485c7320734c8a2f96683a59d9a7a0@127.0.0.1:8095
CATEGORIES:Convegno
CONTACT:R. Morigi\, 0542604436 \, staff.formazione@ausl.imola.bo.it
CREATED;VALUE=DATE-TIME:20141106T175740Z
DESCRIPTION:In ricordo del Professor Pasquale Montagna\n
LAST-MODIFIED;VALUE=DATE-TIME:20160215T082925Z
LOCATION:Bologna - Aula Magna Clinica Neurologica Via Ugo Foscolo n. 7 
URL:https://www.ausl.bologna.it/eventi/archivio/auslevent.2014-11-06.32385
 25857
END:VEVENT
END:VCALENDAR
