BEGIN:VCALENDAR
VERSION:2.0
PRODID:-//Plone.org//NONSGML plone.app.event//EN
X-WR-TIMEZONE:Europe/Rome
BEGIN:VEVENT
SUMMARY:PDTA standard per le patologie Croniche
DTSTART;VALUE=DATE-TIME:20141024T070000Z
DTEND;VALUE=DATE-TIME:20141024T113000Z
DTSTAMP;VALUE=DATE-TIME:20260421T151444Z
UID:afca9579dcac67c2073acde8fa874660@127.0.0.1:8095
CATEGORIES:Focus
CREATED;VALUE=DATE-TIME:20141024T090317Z
DESCRIPTION:Focus RER - FIASO Emilia-Romagna 
LAST-MODIFIED;VALUE=DATE-TIME:20150703T132431Z
LOCATION:Bologna\, Sala AVIS  Via dell’Ospedale\, 20
URL:https://www.ausl.bologna.it/eventi/archivio/auslevent.2014-10-24.15055
 87305
END:VEVENT
END:VCALENDAR
