BEGIN:VCALENDAR
VERSION:2.0
PRODID:-//Plone.org//NONSGML plone.app.event//EN
X-WR-TIMEZONE:Europe/Rome
BEGIN:VEVENT
SUMMARY:“Per stare bene\, impariamo a mangiar bene”
DTSTART;VALUE=DATE-TIME:20141105T143000Z
DTEND;VALUE=DATE-TIME:20141105T180000Z
DTSTAMP;VALUE=DATE-TIME:20260421T151530Z
UID:39395788628a214f4252f66cd1073539@127.0.0.1:8095
ATTENDEE;CN="Mx 10 partecipanti";ROLE=REQ-PARTICIPANT:Mx 10 partecipanti
CATEGORIES:Laboratorio di cucina
CONTACT:051 6584903
CREATED;VALUE=DATE-TIME:20141022T151523Z
DESCRIPTION:Suggerimenti utili per un menù gustoso e salutare
LAST-MODIFIED;VALUE=DATE-TIME:20150703T132430Z
LOCATION:Casa della Salute di Vergato\, via Dell’Ospedale 1 - Vergato (B
 O)
URL:https://www.ausl.bologna.it/eventi/archivio/auslevent.2014-10-22.58182
 91200
END:VEVENT
END:VCALENDAR
