BEGIN:VCALENDAR
VERSION:2.0
PRODID:-//Plone.org//NONSGML plone.app.event//EN
X-WR-TIMEZONE:Europe/Rome
BEGIN:VEVENT
SUMMARY:XII Giornata nazionale di WHP Promozione della Salute nei Luoghi d
 i Lavoro
DTSTART;VALUE=DATE-TIME:20141124T080000Z
DTEND;VALUE=DATE-TIME:20141124T144000Z
DTSTAMP;VALUE=DATE-TIME:20260421T151555Z
UID:35501587d8e9ebf3d2767685181688d2@127.0.0.1:8095
ATTENDEE;CN="La partecipazione all'evento è gratuita e obbligatoria e dev
 e essere effettuata entro il prossimo 18 novembre";ROLE=REQ-PARTICIPANT:La
  partecipazione all'evento è gratuita e obbligatoria e deve essere effett
 uata entro il prossimo 18 novembre
CATEGORIES:Convegno
CREATED;VALUE=DATE-TIME:20141022T140205Z
DESCRIPTION:Stili di vita e attività fisica al lavoro. Le iniziative dell
 a rete per la promozione della salute nei luoghi di lavoro in Europa e in 
 Italia 
LAST-MODIFIED;VALUE=DATE-TIME:20160215T082919Z
LOCATION:Roma - Auditorium INAIL\, P.le Giulio Pastore\, 6
URL:https://www.ausl.bologna.it/eventi/archivio/auslevent.2014-10-22.17794
 56711
END:VEVENT
END:VCALENDAR
