BEGIN:VCALENDAR
VERSION:2.0
PRODID:-//Plone.org//NONSGML plone.app.event//EN
X-WR-TIMEZONE:Europe/Rome
BEGIN:VEVENT
SUMMARY:Comunicare la morte 
DTSTART;VALUE=DATE-TIME:20141023T160000Z
DTEND;VALUE=DATE-TIME:20141023T180000Z
DTSTAMP;VALUE=DATE-TIME:20260421T151313Z
UID:d8212d13fd21118bd2573e93b4cb7dae@127.0.0.1:8095
CATEGORIES:Conferenza
CONTACT:349 3169397
CREATED;VALUE=DATE-TIME:20141021T130311Z
DESCRIPTION:Uno sguardo al cielo - Le voci del lutto - secondo ciclo di co
 nversazioni sul lutto 
LAST-MODIFIED;VALUE=DATE-TIME:20150703T132427Z
LOCATION:Ferrara - Libreria IBS - Piazza Trento e Tireste\, 1 
URL:https://www.ausl.bologna.it/eventi/archivio/auslevent.2014-10-21.22463
 37701
END:VEVENT
END:VCALENDAR
