BEGIN:VCALENDAR
VERSION:2.0
PRODID:-//Plone.org//NONSGML plone.app.event//EN
X-WR-TIMEZONE:Europe/Rome
BEGIN:VEVENT
SUMMARY:Narrare la morte ai bambini 
DTSTART;VALUE=DATE-TIME:20141028T160000Z
DTEND;VALUE=DATE-TIME:20141028T180000Z
DTSTAMP;VALUE=DATE-TIME:20260421T151443Z
UID:fd98be44c54073b9d62b883ee3277e1e@127.0.0.1:8095
ATTENDEE;CN="Ingresso gratuito";ROLE=REQ-PARTICIPANT:Ingresso gratuito
CATEGORIES:Laboratorio di lettura
CONTACT:conversazionilutto@unife.it
CREATED;VALUE=DATE-TIME:20141021T131553Z
DESCRIPTION:Libri per bambini e per ragazzi 
LAST-MODIFIED;VALUE=DATE-TIME:20150703T132428Z
LOCATION:Ferrara - Libreria IBS - Piazza Trento e Tireste\, 1
URL:https://www.ausl.bologna.it/eventi/archivio/auslevent.2014-10-21.13695
 09673
END:VEVENT
END:VCALENDAR
