BEGIN:VCALENDAR
VERSION:2.0
PRODID:-//Plone.org//NONSGML plone.app.event//EN
X-WR-TIMEZONE:Europe/Rome
BEGIN:VEVENT
SUMMARY:La gestione del rischio di corruzione e l'attuazione del piano tri
 ennale di prevenzione della corruzione 
DTSTART;VALUE=DATE-TIME:20141028T080000Z
DTEND;VALUE=DATE-TIME:20141028T170000Z
DTSTAMP;VALUE=DATE-TIME:20260421T151431Z
UID:48d5b3f970bbece63c7cb824012089e5@127.0.0.1:8095
CATEGORIES:Convegno
CREATED;VALUE=DATE-TIME:20141017T110755Z
DESCRIPTION:Fornire le conoscenze e gli strumenti per la corretta implemen
 tazione del processo di gestione del rischio corruttivo\, l'attuazione del
 le misure e il loro monitoraggio 
LAST-MODIFIED;VALUE=DATE-TIME:20150703T132214Z
LOCATION:Aula Anfiteatro\, Centro di Ricerca Istituto Ortopedico Rizzoli -
  Via di Barbiano\, 1/10 - Bologna 
URL:https://www.ausl.bologna.it/eventi/archivio/auslevent.2014-10-17.81844
 82576
END:VEVENT
END:VCALENDAR
