BEGIN:VCALENDAR
VERSION:2.0
PRODID:-//Plone.org//NONSGML plone.app.event//EN
X-WR-TIMEZONE:Europe/Rome
BEGIN:VEVENT
SUMMARY:La rete regionale delle lesioni midollari  
DTSTART;VALUE=DATE-TIME:20141107T073000Z
DTEND;VALUE=DATE-TIME:20141107T173000Z
DTSTAMP;VALUE=DATE-TIME:20260421T151130Z
UID:0b3010ee2f85f7ed8930663e80f4ddab@127.0.0.1:8095
ATTENDEE;CN="Iscrizione obbligatoria entro il 24 ottobre";ROLE=REQ-PARTICI
 PANT:Iscrizione obbligatoria entro il 24 ottobre
CATEGORIES:Convegno
CONTACT:Tel. 0543 742565/747201\, formazione@gruppofipes.it
CREATED;VALUE=DATE-TIME:20141006T133207Z
DESCRIPTION:Misurare per comunicare\, collaborare per accompagnare.
LAST-MODIFIED;VALUE=DATE-TIME:20150703T125721Z
LOCATION:Sala Congressi SACMI Via Prov.le Selice\, 17/A Imola (Bo) 
URL:https://www.ausl.bologna.it/eventi/archivio/auslevent.2014-10-06.75201
 94574
END:VEVENT
END:VCALENDAR
