BEGIN:VCALENDAR
VERSION:2.0
PRODID:-//Plone.org//NONSGML plone.app.event//EN
X-WR-TIMEZONE:Europe/Rome
BEGIN:VEVENT
SUMMARY:La problematica sommersa del maltrattamento sulla persona anziana:
  aspetti giuridici\, clinici\, medico-legali e l’esperienza statunitense
DTSTART;VALUE=DATE-TIME:20141006T130000Z
DTEND;VALUE=DATE-TIME:20141006T160000Z
DTSTAMP;VALUE=DATE-TIME:20260421T151430Z
UID:d7d539526159e86d5747baff556eb112@127.0.0.1:8095
CREATED;VALUE=DATE-TIME:20141003T115135Z
DESCRIPTION:Un seminario a Palazzo Malvezzi
LAST-MODIFIED;VALUE=DATE-TIME:20150703T125719Z
LOCATION:Palazzo Malvezzi. Via Zamboni 22\, Bologna
URL:https://www.ausl.bologna.it/eventi/archivio/auslevent.2014-10-03.76582
 83377
END:VEVENT
END:VCALENDAR
