BEGIN:VCALENDAR
VERSION:2.0
PRODID:-//Plone.org//NONSGML plone.app.event//EN
X-WR-TIMEZONE:Europe/Rome
BEGIN:VEVENT
SUMMARY:Allergie ed intolleranze alimentari: gli impegni della Sanità Pub
 blica
DTSTART;VALUE=DATE-TIME:20141029T073000Z
DTEND;VALUE=DATE-TIME:20141029T130000Z
DTSTAMP;VALUE=DATE-TIME:20260421T151443Z
UID:16b7824cfceea3ca62cecf5588b67ba0@127.0.0.1:8095
ATTENDEE;CN="Sono stati richiesti i Crediti ECM (fino a 100 iscritti) per 
 i seguenti professionisti: Assistente sanitario, Biologo, Chimico, Dietist
 a, Infermiere, Medico chirurgo, Psicologo, Tecnico della prevenzione,  Vet
 erinario.";ROLE=REQ-PARTICIPANT:Sono stati richiesti i Crediti ECM (fino a
  100 iscritti) per i seguenti professionisti: Assistente sanitario, Biolog
 o, Chimico, Dietista, Infermiere, Medico chirurgo, Psicologo, Tecnico dell
 a prevenzione,  Veterinario.
CONTACT:Cristina Coppini\, c.coppini@ausl.bologna.it
CREATED;VALUE=DATE-TIME:20141003T063043Z
LAST-MODIFIED;VALUE=DATE-TIME:20150703T125716Z
LOCATION:Sala Auditorium - Via Aldo Moro 18 Regione Emilia Romagna
URL:https://www.ausl.bologna.it/eventi/archivio/auslevent.2014-10-03.49466
 85037
END:VEVENT
END:VCALENDAR
