BEGIN:VCALENDAR
VERSION:2.0
PRODID:-//Plone.org//NONSGML plone.app.event//EN
X-WR-TIMEZONE:Europe/Rome
BEGIN:VEVENT
SUMMARY:Una festa da Nobel
DTSTART;VALUE=DATE-TIME:20141010T073000Z
DTEND;VALUE=DATE-TIME:20141010T110000Z
DTSTAMP;VALUE=DATE-TIME:20260420T150416Z
UID:cd9e5030f9fb747db1d24f598299b1eb@127.0.0.1:8095
CATEGORIES:Inaugurazione,mostra
CONTACT:Danila Guidi - Cinzia Lenzi\, danila.guidi@ausl.bologna.it
CREATED;VALUE=DATE-TIME:20141003T124038Z
LAST-MODIFIED;VALUE=DATE-TIME:20150703T125720Z
LOCATION:Ex Presidio Roncati\, via Sant’Isaia 90\, Bologna
URL:https://www.ausl.bologna.it/eventi/archivio/auslevent.2014-10-03.48141
 16441
END:VEVENT
END:VCALENDAR
