BEGIN:VCALENDAR
VERSION:2.0
PRODID:-//Plone.org//NONSGML plone.app.event//EN
X-WR-TIMEZONE:Europe/Rome
BEGIN:VEVENT
SUMMARY:2014 Motore Sanità - L'Italia in Europa: un'eccellenza per il dir
 itto alla salute 
DTSTART;VALUE=DATE-TIME:20141003T070000Z
DTEND;VALUE=DATE-TIME:20141003T150000Z
DTSTAMP;VALUE=DATE-TIME:20260421T151557Z
UID:b074897abec83c936e47576d6ed9f3f4@127.0.0.1:8095
CATEGORIES:Convegno
CONTACT:39 327 8920962 - 39 327 8950395 - 39 334 8985945\, a.violi@panacea
 scs.com
CREATED;VALUE=DATE-TIME:20141001T143321Z
DESCRIPTION:Modelli e collaborazioni per la sostenibilità del diritto all
 a salute 
LAST-MODIFIED;VALUE=DATE-TIME:20150703T125706Z
LOCATION:Firenze - Palazzo Bastogi\, Sala delle Feste Via Cavour\, 18
URL:https://www.ausl.bologna.it/eventi/archivio/auslevent.2014-10-01.73111
 18446
END:VEVENT
END:VCALENDAR
