BEGIN:VCALENDAR
VERSION:2.0
PRODID:-//Plone.org//NONSGML plone.app.event//EN
X-WR-TIMEZONE:Europe/Rome
BEGIN:VEVENT
SUMMARY:Neoplasie polmonari parenchimali: focali e diffuse 
DTSTART;VALUE=DATE-TIME:20141006T063000Z
DTEND;VALUE=DATE-TIME:20141006T160000Z
DTSTAMP;VALUE=DATE-TIME:20260421T151432Z
UID:60d73d1c894fa28a96af69971745559e@127.0.0.1:8095
ATTENDEE;CN="25 partecipanti";ROLE=REQ-PARTICIPANT:25 partecipanti
CATEGORIES:corso
CONTACT:Marco Miceli 
CREATED;VALUE=DATE-TIME:20140930T115341Z
DESCRIPTION:Corso 
LAST-MODIFIED;VALUE=DATE-TIME:20150703T125704Z
LOCATION:Bologna - Centro Formazione\, Via Sant'Isaia 94/A\, Aula ex Cappe
 lla
URL:https://www.ausl.bologna.it/eventi/archivio/auslevent.2014-09-30.75986
 81496
END:VEVENT
END:VCALENDAR
