BEGIN:VCALENDAR
VERSION:2.0
PRODID:-//Plone.org//NONSGML plone.app.event//EN
X-WR-TIMEZONE:Europe/Rome
BEGIN:VEVENT
SUMMARY:Dal coma alla comunità: la Casa dei Risvegli Luca De Nigris
DTSTART;VALUE=DATE-TIME:20141007T163000Z
DTEND;VALUE=DATE-TIME:20141007T173000Z
DTSTAMP;VALUE=DATE-TIME:20260421T063449Z
UID:4bf919499fbba33173e88cb242b2013e@127.0.0.1:8095
CATEGORIES:Presentazione libro
CREATED;VALUE=DATE-TIME:20140930T114250Z
DESCRIPTION:Presentazione del libro a cura di Roberto Piperno e Fulvio De 
 Nigris (FrancoAngeli Editore). Dialoga con gli autori Alessandro Bergonzon
 i
LAST-MODIFIED;VALUE=DATE-TIME:20150703T125702Z
LOCATION:Librerie Ambasciatori - Via Orefici\, 19 - Bologna
URL:https://www.ausl.bologna.it/eventi/archivio/auslevent.2014-09-30.19537
 16190
END:VEVENT
END:VCALENDAR
