BEGIN:VCALENDAR
VERSION:2.0
PRODID:-//Plone.org//NONSGML plone.app.event//EN
X-WR-TIMEZONE:Europe/Rome
BEGIN:VEVENT
SUMMARY:Decima Giornata Nazionale perAmore\, perABIO
DTSTART;VALUE=DATE-TIME:20140926T220000Z
DTEND;VALUE=DATE-TIME:20140926T220000Z
DTSTAMP;VALUE=DATE-TIME:20260421T151114Z
UID:d325140723154603227a6da40ffa0f8a@127.0.0.1:8095
CATEGORIES:Giornata nazionale
CONTACT:Abio Bologna Onlus\, info@abiobologna.org
CREATED;VALUE=DATE-TIME:20140925T111522Z
DESCRIPTION:Una Giornata per i bambini\, per i volontari\, per il sorriso 
 anche in ospedale - \n150 piazze\, 5000 volontari 
LAST-MODIFIED;VALUE=DATE-TIME:20150703T125656Z
LOCATION:A Bologna in Via Indipendenza angolo via Montegrappa - Via Indipe
 ndenza angolo Via dei Mille - Centro commerciale Centrolame - Centro comme
 rciale Centroborgo. A Casalecchio di Reno in Piazza del Popolo 
URL:https://www.ausl.bologna.it/eventi/archivio/auslevent.2014-09-25.98620
 04676
END:VEVENT
END:VCALENDAR
