BEGIN:VCALENDAR
VERSION:2.0
PRODID:-//Plone.org//NONSGML plone.app.event//EN
X-WR-TIMEZONE:Europe/Rome
BEGIN:VEVENT
SUMMARY:Race for the Cure
DTSTART;VALUE=DATE-TIME:20140926T120000Z
DTEND;VALUE=DATE-TIME:20140928T100000Z
DTSTAMP;VALUE=DATE-TIME:20260420T143751Z
UID:1b7584e81ce8f5d2cb277d5f212cc7bc@127.0.0.1:8095
CATEGORIES:Evento sportivo e di prevenzione
CONTACT:Race - Susan G. Komen Italia\, Tel 051 6225976 \, bologna.race@kom
 en.it
CREATED;VALUE=DATE-TIME:20140924T140845Z
DESCRIPTION:tre giorni di salute\, sport e benessere per la lotta ai tumor
 i del seno
LAST-MODIFIED;VALUE=DATE-TIME:20150703T125655Z
LOCATION:Bologna\, Giardini Margherita
URL:https://www.ausl.bologna.it/eventi/archivio/auslevent.2014-09-24.66645
 73219
END:VEVENT
END:VCALENDAR
