BEGIN:VCALENDAR
VERSION:2.0
PRODID:-//Plone.org//NONSGML plone.app.event//EN
X-WR-TIMEZONE:Europe/Rome
BEGIN:VEVENT
SUMMARY:Pro Health
DTSTART;VALUE=DATE-TIME:20141107T080000Z
DTEND;VALUE=DATE-TIME:20141108T123000Z
DTSTAMP;VALUE=DATE-TIME:20260423T103245Z
UID:365aa487a9a78650b4aec588f4815a4b@127.0.0.1:8095
CATEGORIES:Convegno
CONTACT:Simona Cappelletti \, 051/6225003\, simona.cappelletti@ausl.bo.it
CREATED;VALUE=DATE-TIME:20140916T120855Z
DESCRIPTION:Modelli e buone pratiche per l'auto-promozione della salute 
LAST-MODIFIED;VALUE=DATE-TIME:20150703T124907Z
LOCATION:Azienda USL di Bologna - Psicologia Ospedaliera Dipartimento Onco
 logico - Lega Vita&Salute
URL:https://www.ausl.bologna.it/eventi/archivio/auslevent.2014-09-16.79202
 22526
END:VEVENT
END:VCALENDAR
