BEGIN:VCALENDAR
VERSION:2.0
PRODID:-//Plone.org//NONSGML plone.app.event//EN
X-WR-TIMEZONE:Europe/Rome
BEGIN:VEVENT
SUMMARY:International Vascular Course 
DTSTART;VALUE=DATE-TIME:20141107T080000Z
DTEND;VALUE=DATE-TIME:20141109T123000Z
DTSTAMP;VALUE=DATE-TIME:20260421T151529Z
UID:638c86f3a7268f5ccb6ccd9ce3e049d5@127.0.0.1:8095
CATEGORIES:Convegno
CONTACT:D. Carletti \, 06/3729466\, segreteria2@gccongressi.it
CREATED;VALUE=DATE-TIME:20140916T122742Z
DESCRIPTION:Corso infermieri 
LAST-MODIFIED;VALUE=DATE-TIME:20150703T124909Z
LOCATION:Rimini - Centro Congressi Grand'Incontri 
URL:https://www.ausl.bologna.it/eventi/archivio/auslevent.2014-09-16.22087
 35623
END:VEVENT
END:VCALENDAR
