BEGIN:VCALENDAR
VERSION:2.0
PRODID:-//Plone.org//NONSGML plone.app.event//EN
X-WR-TIMEZONE:Europe/Rome
BEGIN:VEVENT
SUMMARY:Immaginiamo il welfare di domani 
DTSTART;VALUE=DATE-TIME:20140926T080000Z
DTEND;VALUE=DATE-TIME:20140926T110000Z
DTSTAMP;VALUE=DATE-TIME:20260421T135916Z
UID:81dc3904bcac3e1d7715d6dd83e7747f@127.0.0.1:8095
CATEGORIES:seminario
CONTACT:Giulia Casarini \, 051/7419001\, g.casarini@cadiai.it
CREATED;VALUE=DATE-TIME:20140909T143616Z
DESCRIPTION:Partecipazione\, responsabilità\, innovazione 
LAST-MODIFIED;VALUE=DATE-TIME:20150703T124857Z
LOCATION:Cappella Farnese - Palazzo D'Accursio\, Piazza Maggiore\, 6 - Bol
 ogna 
URL:https://www.ausl.bologna.it/eventi/archivio/auslevent.2014-09-09.99402
 33519
END:VEVENT
END:VCALENDAR
