BEGIN:VCALENDAR
VERSION:2.0
PRODID:-//Plone.org//NONSGML plone.app.event//EN
X-WR-TIMEZONE:Europe/Rome
BEGIN:VEVENT
SUMMARY:Discorso globale\, sofferenze locali  - Analisi critica del Movime
 nto di salute mentale globale 
DTSTART;VALUE=DATE-TIME:20140923T150000Z
DTEND;VALUE=DATE-TIME:20140923T170000Z
DTSTAMP;VALUE=DATE-TIME:20260421T063548Z
UID:ef1d9e1f469023bd15afdc2535345d51@127.0.0.1:8095
CATEGORIES:Presentazione libro
CREATED;VALUE=DATE-TIME:20140909T145936Z
DESCRIPTION:Presentazione del volume di Benedetto Saraceno 
LAST-MODIFIED;VALUE=DATE-TIME:20150703T124858Z
LOCATION:Cappella Farnese\, Palazzo d'Accursio - Piazza Maggiore\, 6 - Bol
 ogna 
URL:https://www.ausl.bologna.it/eventi/archivio/auslevent.2014-09-09.60575
 94932
END:VEVENT
END:VCALENDAR
