BEGIN:VCALENDAR
VERSION:2.0
PRODID:-//Plone.org//NONSGML plone.app.event//EN
X-WR-TIMEZONE:Europe/Rome
BEGIN:VEVENT
SUMMARY:IV Centenario del ritrovamento della Sacra Immagine di Santa Maria
  della Vita
DTSTART;VALUE=DATE-TIME:20140909T163000Z
DTEND;VALUE=DATE-TIME:20140913T180000Z
DTSTAMP;VALUE=DATE-TIME:20260421T134302Z
UID:9051fcf74551aba522ee1d35cb9b829f@127.0.0.1:8095
CATEGORIES:Festa
CREATED;VALUE=DATE-TIME:20140908T103434Z
DESCRIPTION:Tre giorni di iniziative religiose e culturali per festeggiare
  l’evento
LAST-MODIFIED;VALUE=DATE-TIME:20150703T124853Z
LOCATION:Santuario di Santa Maria della Vita - v. Clavature 8\, Bologna
URL:https://www.ausl.bologna.it/eventi/archivio/auslevent.2014-09-08.31080
 63765
END:VEVENT
END:VCALENDAR
