BEGIN:VCALENDAR
VERSION:2.0
PRODID:-//Plone.org//NONSGML plone.app.event//EN
X-WR-TIMEZONE:Europe/Rome
BEGIN:VEVENT
SUMMARY:Torna Impronte. Le misure della salute
DTSTART;VALUE=DATE-TIME:20140905T150000Z
DTEND;VALUE=DATE-TIME:20140905T170000Z
DTSTAMP;VALUE=DATE-TIME:20260421T133643Z
UID:65186399f0b503ff4f4b84cf821496d3@127.0.0.1:8095
CREATED;VALUE=DATE-TIME:20140905T125029Z
DESCRIPTION:Il percorso espositivo sulle scelte alimentari dell'Azienda US
 L di Bologna sarà a disposizione delle scuole per tutto l'anno scolastico
  2014/2015 presso la Scuola delle idee della Fondazione Golinelli
LAST-MODIFIED;VALUE=DATE-TIME:20150703T124851Z
LOCATION:Scuola delle idee - Bologna
URL:https://www.ausl.bologna.it/eventi/archivio/auslevent.2014-09-05.86534
 65802
END:VEVENT
END:VCALENDAR
