BEGIN:VCALENDAR
VERSION:2.0
PRODID:-//Plone.org//NONSGML plone.app.event//EN
X-WR-TIMEZONE:Europe/Rome
BEGIN:VEVENT
SUMMARY:Disordini della coscienza
DTSTART;VALUE=DATE-TIME:20141007T070000Z
DTEND;VALUE=DATE-TIME:20141007T160000Z
DTSTAMP;VALUE=DATE-TIME:20260421T152203Z
UID:b454edd07194ace776b2dcafbf815f6c@127.0.0.1:8095
ATTENDEE;CN="Alla sessione del mattino sono stati attribuiti 4 crediti ECM
  per le seguenti";ROLE=REQ-PARTICIPANT:Alla sessione del mattino sono stat
 i attribuiti 4 crediti ECM per le seguenti
ATTENDEE;CN="professioni: medici chirurghi (fisiatri, neurologi, neuroradi
 ologi), biologi, infermieri,";ROLE=REQ-PARTICIPANT:professioni: medici chi
 rurghi (fisiatri, neurologi, neuroradiologi), biologi, infermieri,
ATTENDEE;CN="fisioterapisti, logopedisti, terapisti occupazionali, educato
 ri, psicologi.";ROLE=REQ-PARTICIPANT:fisioterapisti, logopedisti, terapist
 i occupazionali, educatori, psicologi.
CATEGORIES:Convegno
CONTACT:Amici di Luca\, 051 6494570\, patriziab@amicidiluca.it
CREATED;VALUE=DATE-TIME:20140905T111932Z
DESCRIPTION:Reti e percorsi
LAST-MODIFIED;VALUE=DATE-TIME:20150703T122644Z
LOCATION:Auditorium Enzo Biagi Sala Borsa\, piazza Nettuno - Bologna
URL:https://www.ausl.bologna.it/eventi/archivio/auslevent.2014-09-05.79604
 61277
END:VEVENT
END:VCALENDAR
