BEGIN:VCALENDAR
VERSION:2.0
PRODID:-//Plone.org//NONSGML plone.app.event//EN
X-WR-TIMEZONE:Europe/Rome
BEGIN:VEVENT
SUMMARY:Un gran bel giro di vite!
DTSTART;VALUE=DATE-TIME:20141005T080000Z
DTEND;VALUE=DATE-TIME:20141005T110000Z
DTSTAMP;VALUE=DATE-TIME:20260423T103130Z
UID:8c2b679de4872391d5896fb4dbb184e3@127.0.0.1:8095
CATEGORIES:Festa
CREATED;VALUE=DATE-TIME:20140905T111133Z
DESCRIPTION:Festa per il decennale della Casa dei Risvegli Luca De Nigris
LAST-MODIFIED;VALUE=DATE-TIME:20150703T122642Z
LOCATION:Ospedale Bellaria\, via Giulio Gaist 6 - Bologna
URL:https://www.ausl.bologna.it/eventi/archivio/auslevent.2014-09-05.18154
 13784
END:VEVENT
END:VCALENDAR
