BEGIN:VCALENDAR
VERSION:2.0
PRODID:-//Plone.org//NONSGML plone.app.event//EN
X-WR-TIMEZONE:Europe/Rome
BEGIN:VEVENT
SUMMARY:Ambienti confinati o sospettidi inquinamento
DTSTART;VALUE=DATE-TIME:20140925T063000Z
DTEND;VALUE=DATE-TIME:20140925T150000Z
DTSTAMP;VALUE=DATE-TIME:20260421T133644Z
UID:594fbde83e07428fae0ee768c53263b8@127.0.0.1:8095
ATTENDEE;CN="L’iniziativa è rivolta solo agli operatori delle";ROLE=REQ
 -PARTICIPANT:L’iniziativa è rivolta solo agli operatori delle
ATTENDEE;CN="Unità Operative Prevenzione e Sicurezza";ROLE=REQ-PARTICIPAN
 T:Unità Operative Prevenzione e Sicurezza
ATTENDEE;CN="Ambienti di Lavoro";ROLE=REQ-PARTICIPANT:Ambienti di Lavoro
ATTENDEE;CN="Dipartimento Di Sanità Pubblica";ROLE=REQ-PARTICIPANT:Dipart
 imento Di Sanità Pubblica
CONTACT:daniela guidetti\, fax 051/6810062\, daniela.guidetti@ausl.bologna
 .it
CREATED;VALUE=DATE-TIME:20140822T131927Z
LAST-MODIFIED;VALUE=DATE-TIME:20150703T122637Z
URL:https://www.ausl.bologna.it/eventi/archivio/auslevent.2014-08-22.98618
 18989
END:VEVENT
END:VCALENDAR
